BEGIN:VCALENDAR
VERSION:2.0
PRODID:-//ChamberMaster//Event Calendar 2.0//EN
METHOD:PUBLISH
X-PUBLISHED-TTL:P1H
REFRESH-INTERVAL:P1H
CALSCALE:GREGORIAN
BEGIN:VTIMEZONE
TZID:America/Puerto_Rico
BEGIN:DAYLIGHT
DTSTART:20070311T020000
TZOFFSETFROM:-0400
TZOFFSETTO:-0400
TZNAME:(UTC-04:00) Georgetown, La Paz, Manaus, San Juan
END:DAYLIGHT
BEGIN:STANDARD
DTSTART:20071104T020000
TZOFFSETFROM:-0400
TZOFFSETTO:-0400
TZNAME:(UTC-04:00) Georgetown, La Paz, Manaus, San Juan
END:STANDARD
END:VTIMEZONE
BEGIN:VEVENT
DTSTART;TZID=America/Puerto_Rico:20250924T170000
DTEND;TZID=America/Puerto_Rico:20250924T200000
X-MICROSOFT-CDO-ALLDAYEVENT:FALSE
SUMMARY:De la Intención a la Acción: Cómo Llevar tu Rendimiento al Siguiente Nivel
DESCRIPTION:
X-ALT-DESC;FMTTYPE=text/html:
LOCATION:PO BOX 195477 San Juan PR 00919-5477
UID:e.1656.1265246
SEQUENCE:3
DTSTAMP:20260420T084746Z
URL:https://members.industrialespr.org/academy/Details/de-la-intenci-n-a-la-acci-n-c-mo-llevar-tu-rendimiento-al-siguiente-nivel-1481364?sourceTypeId=Hub
END:VEVENT
END:VCALENDAR
